BEGIN:VCALENDAR
VERSION:2.0
PRODID:-//Museum of the American G.I. - ECPv6.15.20//NONSGML v1.0//EN
CALSCALE:GREGORIAN
METHOD:PUBLISH
X-ORIGINAL-URL:https://americangimuseum.org
X-WR-CALDESC:Events for Museum of the American G.I.
REFRESH-INTERVAL;VALUE=DURATION:PT1H
X-Robots-Tag:noindex
X-PUBLISHED-TTL:PT1H
BEGIN:VTIMEZONE
TZID:America/Chicago
BEGIN:DAYLIGHT
TZOFFSETFROM:-0600
TZOFFSETTO:-0500
TZNAME:CDT
DTSTART:20250309T080000
END:DAYLIGHT
BEGIN:STANDARD
TZOFFSETFROM:-0500
TZOFFSETTO:-0600
TZNAME:CST
DTSTART:20251102T070000
END:STANDARD
BEGIN:DAYLIGHT
TZOFFSETFROM:-0600
TZOFFSETTO:-0500
TZNAME:CDT
DTSTART:20260308T080000
END:DAYLIGHT
BEGIN:STANDARD
TZOFFSETFROM:-0500
TZOFFSETTO:-0600
TZNAME:CST
DTSTART:20261101T070000
END:STANDARD
BEGIN:DAYLIGHT
TZOFFSETFROM:-0600
TZOFFSETTO:-0500
TZNAME:CDT
DTSTART:20270314T080000
END:DAYLIGHT
BEGIN:STANDARD
TZOFFSETFROM:-0500
TZOFFSETTO:-0600
TZNAME:CST
DTSTART:20271107T070000
END:STANDARD
END:VTIMEZONE
BEGIN:VEVENT
DTSTART;TZID=America/Chicago:20260301T140000
DTEND;TZID=America/Chicago:20260301T150000
DTSTAMP:20260421T102829
CREATED:20260219T165916Z
LAST-MODIFIED:20260219T165916Z
UID:10000360-1772373600-1772377200@americangimuseum.org
SUMMARY:History Unplugged - Aircraft Carriers in WWII
DESCRIPTION:Join us on March 1 from 2–3 PM for a gripping talk on the USS Yorktown and her crucial role in the opening months of the Pacific War. Historian and retired U.S. Air Force Colonel Chris Pike explores how a damaged carrier\, rushed through repairs in just days\, helped secure victory at the Battle of Midway and changed naval warfare forever. A powerful story of innovation\, risk\, and resilience. \nFree with Admission.
URL:https://americangimuseum.org/events/history-unplugged-aircraft-carriers-in-wwii-2/
LOCATION:Museum of the American GI\, 19124 Highway 6 South\, College Station\, Texas\, 77845
CATEGORIES:Museum Events
ATTACH;FMTTYPE=image/png:https://americangimuseum.org/wp-content/uploads/2026/02/Jan-25-History-Hour-Aircraft-Carriers-in-WWII-2.png
ORGANIZER;CN="Museum of the American GI":MAILTO:info@americangimuseum.org
END:VEVENT
BEGIN:VEVENT
DTSTART;TZID=America/Chicago:20260320T093000
DTEND;TZID=America/Chicago:20260320T153000
DTSTAMP:20260421T102829
CREATED:20250324T171114Z
LAST-MODIFIED:20260127T221252Z
UID:10000249-1773999000-1774020600@americangimuseum.org
SUMMARY:Living History School Day 2026
DESCRIPTION:We invite you to join us for the 2026 Living History School Day on March 20\, 2026.  This is an opportunity for students to view history in a new way! The purpose is to educate students about US military history from the Civil War to the present. The program has many demonstrations and displays that will excite and engage students while honoring our veterans and their sacrifices. \nThe Living History School Day is divided into three camps\, each with 4 to 5 stations\, highlighting the military experience\, primarily from WWI to Vietnam.  This is an all-day program with two sessions (one in the morning and one in the afternoon)\, plus a lunch break! \nEveryone will enjoy the free parking at Santa’s Wonderland’s  Blitzen Lot (no parking on site). \nRegistration will open on January 28\, 2026\, at 10 AM\nTickets  – $10 Students\,  $7 Parents and Extended Family Members\nFor Private Schools\, 2 teachers are free for every 10 students. \nRegistration will close on March 9th\, or when a maximum of 300 students have registered. \nThe Living History School Day is a “Special Event Day’ and regular admission prices are not valid. This is an outdoor event\, and the museum building will not be open for tours during the Living History School Day. \nClick the button below for more information!
URL:https://americangimuseum.org/events/living-history-school-day-2026/
LOCATION:Museum of the American GI\, 19124 Highway 6 South\, College Station\, Texas\, 77845
ATTACH;FMTTYPE=image/png:https://americangimuseum.org/wp-content/uploads/2025/03/LHSD2026.png
ORGANIZER;CN="Museum of the American GI":MAILTO:info@americangimuseum.org
END:VEVENT
BEGIN:VEVENT
DTSTART;TZID=America/Chicago:20260321T100000
DTEND;TZID=America/Chicago:20260322T150000
DTSTAMP:20260421T102829
CREATED:20250324T161408Z
LAST-MODIFIED:20251213T194135Z
UID:10000248-1774087200-1774191600@americangimuseum.org
SUMMARY:Living History Weekend 2026
DESCRIPTION:Join us for the Living History Weekend on March 21 -22\, 2026! Visitors will view Living History Displays\, witness the roar of tanks in our WWII ETO skirmishes\, and see a WWII Marine Tactical demonstration.  Visitors will step back in history as they view WWI skirmishes\, see History in Action during our Vietnam Era Skirmish and Flame Thrower demonstration\, and view historic military vehicles. This family-friendly event is sure to have something for everyone! \nEveryone will enjoy the free parking at Santa’s Wonderland’s new Blitzen Lot (no parking on site). \nCome early and stay all day! You will not want to miss anything. Food vendors will be on-site to make sure no one goes hungry!  On Saturday\, you can eat your fill of everyone’s favorite Big Dawg Barbecue and Raging Bull Street Tacos.  Of course\, you will want to quench your thirst and cool off with Kona Ice! \nOne Day Tickets (Cash price)\n$25 Adults\, $10 Kids (5-17)\, Under five free \nTwo-Day Tickets\n$40 Adults\, $17.50 Kids\, Under five free (Cash price) \nAdmission tickets will go on sale on February 4th at 10 AM. \nClick the button below for a list of activities and a tentative schedule!
URL:https://americangimuseum.org/events/living-history-weekend-2026/
LOCATION:Museum of the American GI\, 19124 Highway 6 South\, College Station\, Texas\, 77845
ATTACH;FMTTYPE=image/png:https://americangimuseum.org/wp-content/uploads/2025/03/LHW-2026.png
ORGANIZER;CN="Museum of the American GI":MAILTO:info@americangimuseum.org
END:VEVENT
END:VCALENDAR