BEGIN:VCALENDAR
VERSION:2.0
PRODID:-//Museum of the American G.I. - ECPv6.15.20//NONSGML v1.0//EN
CALSCALE:GREGORIAN
METHOD:PUBLISH
X-WR-CALNAME:Museum of the American G.I.
X-ORIGINAL-URL:https://americangimuseum.org
X-WR-CALDESC:Events for Museum of the American G.I.
REFRESH-INTERVAL;VALUE=DURATION:PT1H
X-Robots-Tag:noindex
X-PUBLISHED-TTL:PT1H
BEGIN:VTIMEZONE
TZID:America/Chicago
BEGIN:DAYLIGHT
TZOFFSETFROM:-0600
TZOFFSETTO:-0500
TZNAME:CDT
DTSTART:20250309T080000
END:DAYLIGHT
BEGIN:STANDARD
TZOFFSETFROM:-0500
TZOFFSETTO:-0600
TZNAME:CST
DTSTART:20251102T070000
END:STANDARD
BEGIN:DAYLIGHT
TZOFFSETFROM:-0600
TZOFFSETTO:-0500
TZNAME:CDT
DTSTART:20260308T080000
END:DAYLIGHT
BEGIN:STANDARD
TZOFFSETFROM:-0500
TZOFFSETTO:-0600
TZNAME:CST
DTSTART:20261101T070000
END:STANDARD
BEGIN:DAYLIGHT
TZOFFSETFROM:-0600
TZOFFSETTO:-0500
TZNAME:CDT
DTSTART:20270314T080000
END:DAYLIGHT
BEGIN:STANDARD
TZOFFSETFROM:-0500
TZOFFSETTO:-0600
TZNAME:CST
DTSTART:20271107T070000
END:STANDARD
BEGIN:DAYLIGHT
TZOFFSETFROM:-0600
TZOFFSETTO:-0500
TZNAME:CDT
DTSTART:20280312T080000
END:DAYLIGHT
BEGIN:STANDARD
TZOFFSETFROM:-0500
TZOFFSETTO:-0600
TZNAME:CST
DTSTART:20281105T070000
END:STANDARD
END:VTIMEZONE
BEGIN:VEVENT
DTSTART;TZID=America/Chicago:20261107T100000
DTEND;TZID=America/Chicago:20261108T150000
DTSTAMP:20260421T200355
CREATED:20260105T003845Z
LAST-MODIFIED:20260105T004804Z
UID:10000354-1794045600-1794150000@americangimuseum.org
SUMMARY:History in Motion 2026
DESCRIPTION:Coming November 7 & 8\, 2026\n \nTanks\, Tanks\, Tanks!Feel the ground shake and engines roar at the Museum of the American G.I.’s History in Motion! Watch historic tanks\, military vehicles\, and artillery spring to life in a thrilling\, action-filled weekend that brings the past into the present. You’ll experience one of the South’s premier collections of fully restored WWII and Vietnam-era vehicles—in motion. \nThis family-friendly event is packed with exciting activities for all ages! Tanks and vehicles will run throughout the day\, with special demonstrations featuring historic weapons\, artillery\, and rare vehicles. Between shows\, explore the displays up close—or climb aboard for a ride in a WWII tank or Half-Track! \nWe begin each day with a special presentation of the National Anthem at 10:00 AM\, setting the stage for the day’s events.  The event will showcase special weapons demonstrations\, and TWO BIG Vehicle Demonstrations.  Make sure you do not leave early or you will miss the finale: a powerful artillery demonstration that ends the day with a BOOM! \nGates open at 9:00 AMEvent hours: Saturday & Sunday\, 10:00 AM – 3:00 PM \nFREE Parking is available at Santa’s Wonderland’s Blitzen Lot. From there\, you enter the museum grounds through the admission tent. \nTICKET INFORMATION\nOne Day Tickets (Cash price)   $25 Adults\, $10 Kids (5-17)\, Under 5 free \nSpeed through the line by purchasing admission tickets online!  Available starting September 9\, 2026\, at 10 AM \nClick the button below for a list of activities!\n \n  \nHistory in Motion is a “Special Event Day’ and regular admission prices are not valid. \nThis is an outdoor event\, and the museum building will not be open during History in Motion. \n  \n 
URL:https://americangimuseum.org/events/history-in-motion-2026/
LOCATION:Museum of the American GI\, 19124 Highway 6 South\, College Station\, Texas\, 77845
CATEGORIES:Museum Events
ATTACH;FMTTYPE=image/png:https://americangimuseum.org/wp-content/uploads/2026/01/History-in-Motion-2026.png
ORGANIZER;CN="Museum of the American GI":MAILTO:info@americangimuseum.org
END:VEVENT
BEGIN:VEVENT
DTSTART;TZID=America/Chicago:20261205T110000
DTEND;TZID=America/Chicago:20261205T130000
DTSTAMP:20260421T200355
CREATED:20260403T152503Z
LAST-MODIFIED:20260403T152503Z
UID:10000367-1796468400-1796475600@americangimuseum.org
SUMMARY:Crafts with Mrs. Claus 2026
DESCRIPTION:Join us on Saturday\, December 5\, for a holly jolly day filled with holiday crafts and photos with Mrs. Claus!   From 11 am-1 pm\, kids can create a special Christmas craft to take home and then snap a festive photo with Mrs. Claus herself! \nBring your holiday spirit and make lasting memories with the whole family. We can’t wait to celebrate the season with you! \nAdmission to the event is $6 for parents and children.
URL:https://americangimuseum.org/events/crafts-with-mrs-claus-2026/
LOCATION:Museum of the American GI\, 19124 Highway 6 South\, College Station\, Texas\, 77845
CATEGORIES:Museum Events
ATTACH;FMTTYPE=image/png:https://americangimuseum.org/wp-content/uploads/2026/04/Crafts-with-Mrs-Claus-2026.png
ORGANIZER;CN="Museum of the American GI":MAILTO:info@americangimuseum.org
END:VEVENT
BEGIN:VEVENT
DTSTART;TZID=America/Chicago:20261206T120000
DTEND;TZID=America/Chicago:20261206T140000
DTSTAMP:20260421T200355
CREATED:20260403T152812Z
LAST-MODIFIED:20260403T153216Z
UID:10000368-1796558400-1796565600@americangimuseum.org
SUMMARY:Paws with Mrs. Claus 2026
DESCRIPTION:Bring your furry friends for a festive photo with Mrs. Claus at the Museum of the American G.I.!  On Sunday\, December 6\, from 12 pm to 2 pm\, bring your pet to the museum\, whether they’ve been naughty or nice\, for a festive picture with Mrs. Claus! \nA perfect way to capture a holiday memory you’ll treasure all season long! While you’re here\, enjoy our seasonal decorations and explore the museum’s exhibits. \nDress your pets in their holiday best — we can’t wait to see those festive outfits! \nPet photos with Mrs. Claus and admission to the museum are $10 on December 6  from 12:00 p.m. to 2:00 p.m.
URL:https://americangimuseum.org/events/paws-with-mrs-claus-2026/
LOCATION:Museum of the American GI\, 19124 Highway 6 South\, College Station\, Texas\, 77845
CATEGORIES:Museum Events
ATTACH;FMTTYPE=image/png:https://americangimuseum.org/wp-content/uploads/2026/04/Paws-with-Mrs-Claus-2026.png
ORGANIZER;CN="Museum of the American GI":MAILTO:info@americangimuseum.org
END:VEVENT
BEGIN:VEVENT
DTSTART;TZID=America/Chicago:20270402T093000
DTEND;TZID=America/Chicago:20270402T153000
DTSTAMP:20260421T200355
CREATED:20260403T014230Z
LAST-MODIFIED:20260403T014230Z
UID:10000363-1806658200-1806679800@americangimuseum.org
SUMMARY:Living History School Day 2027
DESCRIPTION:We invite you to join us on April 2\, 2027 for the Museum of the American G.I.’s Living History School Day—where history comes alive. \nThrough a series of living history camps\, students will explore U.S. military history from the Civil War to the present day. Each station offers a unique perspective—whether through equipment displays\, demonstrations\, or first-person interpretation—designed to engage curiosity and encourage questions. \nStudents move through the program on a timed rotation schedule\, ensuring each group has the opportunity to participate in multiple stations throughout the day. \nFree parking is provided at Santa’s Wonderland Blitzen Lot. \nRegistration opens January 27\, 2027\, at 10:00 AM$10 Students | $7 Parents and Extended FamilyPrivate/Public Schools: 1 teacher at no charge for every 10 students \nSpace is limited to 300 students. Registration closes March 19 or when capacity is reached. \nThis is an outdoor special event\, and the museum building will not be open during the program. \nClick the button below for more information!
URL:https://americangimuseum.org/events/living-history-school-day-2027/
LOCATION:Museum of the American GI\, 19124 Highway 6 South\, College Station\, Texas\, 77845
CATEGORIES:Museum Events
ATTACH;FMTTYPE=image/png:https://americangimuseum.org/wp-content/uploads/2026/04/LHSD-2027.png
ORGANIZER;CN="Museum of the American GI":MAILTO:info@americangimuseum.org
END:VEVENT
BEGIN:VEVENT
DTSTART;TZID=America/Chicago:20270403T100000
DTEND;TZID=America/Chicago:20270404T150000
DTSTAMP:20260421T200355
CREATED:20260403T020240Z
LAST-MODIFIED:20260403T020240Z
UID:10000364-1806746400-1806850800@americangimuseum.org
SUMMARY:Living History Weekend 2027
DESCRIPTION:Join us for the Living History Weekend on April 3 & 4\, 2027! Visitors will view Living History Displays\, witness the roar of tanks in our WWII ETO skirmishes\, and see a WWII Marine Tactical demonstration.  Visitors will step back in history as they view WWI skirmishes\, see History in Action during our Vietnam Era Skirmish and Flame Thrower demonstration\, and view historic military vehicles. This family-friendly event is sure to have something for everyone! \nEveryone will enjoy the free parking at Santa’s Wonderland’s new Blitzen Lot (no parking on site). \nCome early and stay all day! You will not want to miss anything. Food vendors will be on-site to make sure no one goes hungry!  On Saturday\, you can eat your fill of everyone’s favorite Big Dawg Barbecue and Raging Bull Street Tacos.  Of course\, you will want to quench your thirst and cool off with Kona Ice! \nOne Day Tickets (Cash price)\n$25 Adults\, $10 Kids (5-17)\, Under five free \nTwo-Day Tickets\n$40 Adults\, $17.50 Kids\, Under five free (Cash price) \nAdmission tickets will go on sale on February 3rd at 10 AM. \nClick the button below for a list of activities and a tentative schedule!
URL:https://americangimuseum.org/events/living-history-weekend-2027/
LOCATION:Museum of the American GI\, 19124 Highway 6 South\, College Station\, Texas\, 77845
CATEGORIES:Museum Events
ATTACH;FMTTYPE=image/png:https://americangimuseum.org/wp-content/uploads/2026/04/LHW-2027.png
ORGANIZER;CN="Museum of the American GI":MAILTO:info@americangimuseum.org
END:VEVENT
END:VCALENDAR