BEGIN:VCALENDAR
VERSION:2.0
PRODID:-//Museum of the American G.I. - ECPv6.15.20//NONSGML v1.0//EN
CALSCALE:GREGORIAN
METHOD:PUBLISH
X-WR-CALNAME:Museum of the American G.I.
X-ORIGINAL-URL:https://americangimuseum.org
X-WR-CALDESC:Events for Museum of the American G.I.
REFRESH-INTERVAL;VALUE=DURATION:PT1H
X-Robots-Tag:noindex
X-PUBLISHED-TTL:PT1H
BEGIN:VTIMEZONE
TZID:America/Chicago
BEGIN:DAYLIGHT
TZOFFSETFROM:-0600
TZOFFSETTO:-0500
TZNAME:CDT
DTSTART:20250309T080000
END:DAYLIGHT
BEGIN:STANDARD
TZOFFSETFROM:-0500
TZOFFSETTO:-0600
TZNAME:CST
DTSTART:20251102T070000
END:STANDARD
BEGIN:DAYLIGHT
TZOFFSETFROM:-0600
TZOFFSETTO:-0500
TZNAME:CDT
DTSTART:20260308T080000
END:DAYLIGHT
BEGIN:STANDARD
TZOFFSETFROM:-0500
TZOFFSETTO:-0600
TZNAME:CST
DTSTART:20261101T070000
END:STANDARD
BEGIN:DAYLIGHT
TZOFFSETFROM:-0600
TZOFFSETTO:-0500
TZNAME:CDT
DTSTART:20270314T080000
END:DAYLIGHT
BEGIN:STANDARD
TZOFFSETFROM:-0500
TZOFFSETTO:-0600
TZNAME:CST
DTSTART:20271107T070000
END:STANDARD
END:VTIMEZONE
BEGIN:VEVENT
DTSTART;TZID=America/Chicago:20261107T100000
DTEND;TZID=America/Chicago:20261108T150000
DTSTAMP:20260421T181626
CREATED:20260105T003845Z
LAST-MODIFIED:20260105T004804Z
UID:10000354-1794045600-1794150000@americangimuseum.org
SUMMARY:History in Motion 2026
DESCRIPTION:Coming November 7 & 8\, 2026\n \nTanks\, Tanks\, Tanks!Feel the ground shake and engines roar at the Museum of the American G.I.’s History in Motion! Watch historic tanks\, military vehicles\, and artillery spring to life in a thrilling\, action-filled weekend that brings the past into the present. You’ll experience one of the South’s premier collections of fully restored WWII and Vietnam-era vehicles—in motion. \nThis family-friendly event is packed with exciting activities for all ages! Tanks and vehicles will run throughout the day\, with special demonstrations featuring historic weapons\, artillery\, and rare vehicles. Between shows\, explore the displays up close—or climb aboard for a ride in a WWII tank or Half-Track! \nWe begin each day with a special presentation of the National Anthem at 10:00 AM\, setting the stage for the day’s events.  The event will showcase special weapons demonstrations\, and TWO BIG Vehicle Demonstrations.  Make sure you do not leave early or you will miss the finale: a powerful artillery demonstration that ends the day with a BOOM! \nGates open at 9:00 AMEvent hours: Saturday & Sunday\, 10:00 AM – 3:00 PM \nFREE Parking is available at Santa’s Wonderland’s Blitzen Lot. From there\, you enter the museum grounds through the admission tent. \nTICKET INFORMATION\nOne Day Tickets (Cash price)   $25 Adults\, $10 Kids (5-17)\, Under 5 free \nSpeed through the line by purchasing admission tickets online!  Available starting September 9\, 2026\, at 10 AM \nClick the button below for a list of activities!\n \n  \nHistory in Motion is a “Special Event Day’ and regular admission prices are not valid. \nThis is an outdoor event\, and the museum building will not be open during History in Motion. \n  \n 
URL:https://americangimuseum.org/events/history-in-motion-2026/
LOCATION:Museum of the American GI\, 19124 Highway 6 South\, College Station\, Texas\, 77845
CATEGORIES:Museum Events
ATTACH;FMTTYPE=image/png:https://americangimuseum.org/wp-content/uploads/2026/01/History-in-Motion-2026.png
ORGANIZER;CN="Museum of the American GI":MAILTO:info@americangimuseum.org
END:VEVENT
END:VCALENDAR