BEGIN:VCALENDAR
VERSION:2.0
PRODID:-//Museum of the American G.I. - ECPv6.15.20//NONSGML v1.0//EN
CALSCALE:GREGORIAN
METHOD:PUBLISH
X-ORIGINAL-URL:https://americangimuseum.org
X-WR-CALDESC:Events for Museum of the American G.I.
REFRESH-INTERVAL;VALUE=DURATION:PT1H
X-Robots-Tag:noindex
X-PUBLISHED-TTL:PT1H
BEGIN:VTIMEZONE
TZID:America/Chicago
BEGIN:DAYLIGHT
TZOFFSETFROM:-0600
TZOFFSETTO:-0500
TZNAME:CDT
DTSTART:20250309T080000
END:DAYLIGHT
BEGIN:STANDARD
TZOFFSETFROM:-0500
TZOFFSETTO:-0600
TZNAME:CST
DTSTART:20251102T070000
END:STANDARD
BEGIN:DAYLIGHT
TZOFFSETFROM:-0600
TZOFFSETTO:-0500
TZNAME:CDT
DTSTART:20260308T080000
END:DAYLIGHT
BEGIN:STANDARD
TZOFFSETFROM:-0500
TZOFFSETTO:-0600
TZNAME:CST
DTSTART:20261101T070000
END:STANDARD
BEGIN:DAYLIGHT
TZOFFSETFROM:-0600
TZOFFSETTO:-0500
TZNAME:CDT
DTSTART:20270314T080000
END:DAYLIGHT
BEGIN:STANDARD
TZOFFSETFROM:-0500
TZOFFSETTO:-0600
TZNAME:CST
DTSTART:20271107T070000
END:STANDARD
END:VTIMEZONE
BEGIN:VEVENT
DTSTART;TZID=America/Chicago:20260524T144500
DTEND;TZID=America/Chicago:20260524T151500
DTSTAMP:20260421T120024
CREATED:20260105T005832Z
LAST-MODIFIED:20260403T151734Z
UID:10000355-1779633900-1779635700@americangimuseum.org
SUMMARY:Remembering the Fallen 2026
DESCRIPTION:They shall grow not old\, as we that are left grow old:\nAge shall not weary them\, nor the years condemn.\nAt the going down of the sun and in the morning\nWe will remember them.  “For the Fallen” by Laurence Binyon \nMemorial Day is the time we\, as a Nation\, set aside to remember those who have fallen in service to our country. \nJoin us on Sunday\, May 24 at 3 PM as we Remember the Fallen on Memorial Day Weekend. Our Armored Support Group will perform a 21-gun salute featuring three cannons – the French 75 mm field gun representing WWI\, the 75 mm pack Howitzer representing WWII\, and the 105 mm Howitzer representing the Vietnam War.\n\nThe 21-gun salute is a free outdoor event.
URL:https://americangimuseum.org/events/remembering-the-fallen-2026/
LOCATION:Museum of the American GI\, 19124 Highway 6 South\, College Station\, Texas\, 77845
CATEGORIES:Museum Events
ATTACH;FMTTYPE=image/png:https://americangimuseum.org/wp-content/uploads/2026/01/Remembering-the-Fallen-2026.png
ORGANIZER;CN="Museum of the American GI":MAILTO:info@americangimuseum.org
END:VEVENT
END:VCALENDAR