BEGIN:VCALENDAR
VERSION:2.0
PRODID:-//Museum of the American G.I. - ECPv6.15.20//NONSGML v1.0//EN
CALSCALE:GREGORIAN
METHOD:PUBLISH
X-WR-CALNAME:Museum of the American G.I.
X-ORIGINAL-URL:https://americangimuseum.org
X-WR-CALDESC:Events for Museum of the American G.I.
REFRESH-INTERVAL;VALUE=DURATION:PT1H
X-Robots-Tag:noindex
X-PUBLISHED-TTL:PT1H
BEGIN:VTIMEZONE
TZID:America/Chicago
BEGIN:DAYLIGHT
TZOFFSETFROM:-0600
TZOFFSETTO:-0500
TZNAME:CDT
DTSTART:20250309T080000
END:DAYLIGHT
BEGIN:STANDARD
TZOFFSETFROM:-0500
TZOFFSETTO:-0600
TZNAME:CST
DTSTART:20251102T070000
END:STANDARD
BEGIN:DAYLIGHT
TZOFFSETFROM:-0600
TZOFFSETTO:-0500
TZNAME:CDT
DTSTART:20260308T080000
END:DAYLIGHT
BEGIN:STANDARD
TZOFFSETFROM:-0500
TZOFFSETTO:-0600
TZNAME:CST
DTSTART:20261101T070000
END:STANDARD
BEGIN:DAYLIGHT
TZOFFSETFROM:-0600
TZOFFSETTO:-0500
TZNAME:CDT
DTSTART:20270314T080000
END:DAYLIGHT
BEGIN:STANDARD
TZOFFSETFROM:-0500
TZOFFSETTO:-0600
TZNAME:CST
DTSTART:20271107T070000
END:STANDARD
END:VTIMEZONE
BEGIN:VEVENT
DTSTART;TZID=America/Chicago:20260425T100000
DTEND;TZID=America/Chicago:20260426T170000
DTSTAMP:20260421T102555
CREATED:20260307T192229Z
LAST-MODIFIED:20260307T192229Z
UID:10000362-1777111200-1777222800@americangimuseum.org
SUMMARY:Vietnam Era Hands-on History Weekend
DESCRIPTION:Join us April 25–26 for a special weekend honoring the men and women who served during the Vietnam War. \nStep into history as the Museum of the American G.I. hosts an outdoor Vietnam-era living history display. Explore an authentic tent camp\, see military vehicles used by U.S. Army and Marine Corps forces\, and speak with historians and interpreters about the experiences of those who served. \nGuests will also have the opportunity to experience history firsthand by riding in a historic M113 armored personnel carrier\, offering a glimpse of the vehicles that carried troops during the conflict. \nThis weekend is an opportunity to learn more about the conflict\, hear stories of service and sacrifice\, and recognize the courage of the Vietnam veterans whose contributions were too often overlooked when they returned home. \nThe museum building will be open during the event\, though Sunday hours will be slightly modified due to a private function. The outdoor hands-on history displays will continue throughout the day. \nThe event is included with Museum Admission.
URL:https://americangimuseum.org/events/vietnam-era-hands-on-history-weekend/
LOCATION:Museum of the American GI\, 19124 Highway 6 South\, College Station\, Texas\, 77845
CATEGORIES:Museum Events
ATTACH;FMTTYPE=image/png:https://americangimuseum.org/wp-content/uploads/2026/03/Hands-on-History-Vietnam-Website.png
ORGANIZER;CN="Museum of the American GI":MAILTO:info@americangimuseum.org
END:VEVENT
END:VCALENDAR