BEGIN:VCALENDAR
VERSION:2.0
PRODID:-//Museum of the American G.I. - ECPv6.15.20//NONSGML v1.0//EN
CALSCALE:GREGORIAN
METHOD:PUBLISH
X-WR-CALNAME:Museum of the American G.I.
X-ORIGINAL-URL:https://americangimuseum.org
X-WR-CALDESC:Events for Museum of the American G.I.
REFRESH-INTERVAL;VALUE=DURATION:PT1H
X-Robots-Tag:noindex
X-PUBLISHED-TTL:PT1H
BEGIN:VTIMEZONE
TZID:America/Chicago
BEGIN:DAYLIGHT
TZOFFSETFROM:-0600
TZOFFSETTO:-0500
TZNAME:CDT
DTSTART:20250309T080000
END:DAYLIGHT
BEGIN:STANDARD
TZOFFSETFROM:-0500
TZOFFSETTO:-0600
TZNAME:CST
DTSTART:20251102T070000
END:STANDARD
BEGIN:DAYLIGHT
TZOFFSETFROM:-0600
TZOFFSETTO:-0500
TZNAME:CDT
DTSTART:20260308T080000
END:DAYLIGHT
BEGIN:STANDARD
TZOFFSETFROM:-0500
TZOFFSETTO:-0600
TZNAME:CST
DTSTART:20261101T070000
END:STANDARD
BEGIN:DAYLIGHT
TZOFFSETFROM:-0600
TZOFFSETTO:-0500
TZNAME:CDT
DTSTART:20270314T080000
END:DAYLIGHT
BEGIN:STANDARD
TZOFFSETFROM:-0500
TZOFFSETTO:-0600
TZNAME:CST
DTSTART:20271107T070000
END:STANDARD
END:VTIMEZONE
BEGIN:VEVENT
DTSTART;TZID=America/Chicago:20260418T180000
DTEND;TZID=America/Chicago:20260418T200000
DTSTAMP:20260421T102620
CREATED:20260115T194920Z
LAST-MODIFIED:20260403T150111Z
UID:10000357-1776535200-1776542400@americangimuseum.org
SUMMARY:Father Daughter Dance 2026
DESCRIPTION:Experience the charm and excitement of a 1940s USO dance at our Father-Daughter Dance on April 18th from 6:00 to 8:00 PM. Grab your dancing shoes and get ready to swing the night away.\n\nThis immersive evening will feature classic tunes\, tasty food\, engaging activities\, and lots of dancing. It’s the perfect opportunity for fathers and daughters to dress up and enjoy a one-of-a-kind evening inspired by the 1940s\, all while surrounded by artifacts from the era.\n\nCome celebrate history\, family\, and unforgettable moments together.\n\n\nBe sure to purchase your tickets in advance—door availability will be extremely limited.
URL:https://americangimuseum.org/events/father-daughter-dance-2026/
LOCATION:Museum of the American GI\, 19124 Highway 6 South\, College Station\, Texas\, 77845
CATEGORIES:Museum Events
ATTACH;FMTTYPE=image/png:https://americangimuseum.org/wp-content/uploads/2026/01/Daddy-Daughter-Dance-Website.png
ORGANIZER;CN="Museum of the American GI":MAILTO:info@americangimuseum.org
END:VEVENT
END:VCALENDAR