BEGIN:VCALENDAR
VERSION:2.0
PRODID:-//Museum of the American G.I. - ECPv6.15.20//NONSGML v1.0//EN
CALSCALE:GREGORIAN
METHOD:PUBLISH
X-WR-CALNAME:Museum of the American G.I.
X-ORIGINAL-URL:https://americangimuseum.org
X-WR-CALDESC:Events for Museum of the American G.I.
REFRESH-INTERVAL;VALUE=DURATION:PT1H
X-Robots-Tag:noindex
X-PUBLISHED-TTL:PT1H
BEGIN:VTIMEZONE
TZID:America/Chicago
BEGIN:DAYLIGHT
TZOFFSETFROM:-0600
TZOFFSETTO:-0500
TZNAME:CDT
DTSTART:20250309T080000
END:DAYLIGHT
BEGIN:STANDARD
TZOFFSETFROM:-0500
TZOFFSETTO:-0600
TZNAME:CST
DTSTART:20251102T070000
END:STANDARD
BEGIN:DAYLIGHT
TZOFFSETFROM:-0600
TZOFFSETTO:-0500
TZNAME:CDT
DTSTART:20260308T080000
END:DAYLIGHT
BEGIN:STANDARD
TZOFFSETFROM:-0500
TZOFFSETTO:-0600
TZNAME:CST
DTSTART:20261101T070000
END:STANDARD
BEGIN:DAYLIGHT
TZOFFSETFROM:-0600
TZOFFSETTO:-0500
TZNAME:CDT
DTSTART:20270314T080000
END:DAYLIGHT
BEGIN:STANDARD
TZOFFSETFROM:-0500
TZOFFSETTO:-0600
TZNAME:CST
DTSTART:20271107T070000
END:STANDARD
END:VTIMEZONE
BEGIN:VEVENT
DTSTART;TZID=America/Chicago:20260404T130000
DTEND;TZID=America/Chicago:20260404T143000
DTSTAMP:20260421T102555
CREATED:20260205T183304Z
LAST-MODIFIED:20260205T183304Z
UID:10000359-1775307600-1775313000@americangimuseum.org
SUMMARY:Seeds of Victory
DESCRIPTION:During World War II\, the battle for victory wasn’t fought only overseas—it was fought at kitchen tables\, in grocery lines\, and in backyard gardens across America. Join us on April 4 for an engaging talk with Sara Boswell as she explores how everyday Americans adapted to wartime shortages and rationing through creative cooking and the nationwide Victory Garden movement. \nThis program will examine how ration books worked\, which foods were hardest to come by\, and how families learned to “make do” while still feeding their households. Learn how Victory Gardens transformed lawns into lifelines\, supplying fresh produce and boosting morale on the home front. Along the way\, we’ll share period recipes\, surprising substitutions\, and the powerful connection between food\, patriotism\, and perseverance. \nWhether you’re interested in WWII history\, home-front stories\, or the ingenuity of ordinary citizens during extraordinary times\, this talk offers a fascinating look at how food helped fuel the war effort—and sustain a nation. \nFree with admission.
URL:https://americangimuseum.org/events/seeds-of-victory-2/
LOCATION:Museum of the American GI\, 19124 Highway 6 South\, College Station\, Texas\, 77845
CATEGORIES:Museum Events
ATTACH;FMTTYPE=image/png:https://americangimuseum.org/wp-content/uploads/2026/02/Sarah-Talk-in-April.png
ORGANIZER;CN="Museum of the American GI":MAILTO:info@americangimuseum.org
END:VEVENT
END:VCALENDAR