BEGIN:VCALENDAR
VERSION:2.0
PRODID:-//Museum of the American G.I. - ECPv6.15.20//NONSGML v1.0//EN
CALSCALE:GREGORIAN
METHOD:PUBLISH
X-ORIGINAL-URL:https://americangimuseum.org
X-WR-CALDESC:Events for Museum of the American G.I.
REFRESH-INTERVAL;VALUE=DURATION:PT1H
X-Robots-Tag:noindex
X-PUBLISHED-TTL:PT1H
BEGIN:VTIMEZONE
TZID:America/Chicago
BEGIN:DAYLIGHT
TZOFFSETFROM:-0600
TZOFFSETTO:-0500
TZNAME:CDT
DTSTART:20250309T080000
END:DAYLIGHT
BEGIN:STANDARD
TZOFFSETFROM:-0500
TZOFFSETTO:-0600
TZNAME:CST
DTSTART:20251102T070000
END:STANDARD
BEGIN:DAYLIGHT
TZOFFSETFROM:-0600
TZOFFSETTO:-0500
TZNAME:CDT
DTSTART:20260308T080000
END:DAYLIGHT
BEGIN:STANDARD
TZOFFSETFROM:-0500
TZOFFSETTO:-0600
TZNAME:CST
DTSTART:20261101T070000
END:STANDARD
BEGIN:DAYLIGHT
TZOFFSETFROM:-0600
TZOFFSETTO:-0500
TZNAME:CDT
DTSTART:20270314T080000
END:DAYLIGHT
BEGIN:STANDARD
TZOFFSETFROM:-0500
TZOFFSETTO:-0600
TZNAME:CST
DTSTART:20271107T070000
END:STANDARD
END:VTIMEZONE
BEGIN:VEVENT
DTSTART;TZID=America/Chicago:20260321T100000
DTEND;TZID=America/Chicago:20260322T150000
DTSTAMP:20260421T121335
CREATED:20250324T161408Z
LAST-MODIFIED:20251213T194135Z
UID:10000248-1774087200-1774191600@americangimuseum.org
SUMMARY:Living History Weekend 2026
DESCRIPTION:Join us for the Living History Weekend on March 21 -22\, 2026! Visitors will view Living History Displays\, witness the roar of tanks in our WWII ETO skirmishes\, and see a WWII Marine Tactical demonstration.  Visitors will step back in history as they view WWI skirmishes\, see History in Action during our Vietnam Era Skirmish and Flame Thrower demonstration\, and view historic military vehicles. This family-friendly event is sure to have something for everyone! \nEveryone will enjoy the free parking at Santa’s Wonderland’s new Blitzen Lot (no parking on site). \nCome early and stay all day! You will not want to miss anything. Food vendors will be on-site to make sure no one goes hungry!  On Saturday\, you can eat your fill of everyone’s favorite Big Dawg Barbecue and Raging Bull Street Tacos.  Of course\, you will want to quench your thirst and cool off with Kona Ice! \nOne Day Tickets (Cash price)\n$25 Adults\, $10 Kids (5-17)\, Under five free \nTwo-Day Tickets\n$40 Adults\, $17.50 Kids\, Under five free (Cash price) \nAdmission tickets will go on sale on February 4th at 10 AM. \nClick the button below for a list of activities and a tentative schedule!
URL:https://americangimuseum.org/events/living-history-weekend-2026/
LOCATION:Museum of the American GI\, 19124 Highway 6 South\, College Station\, Texas\, 77845
ATTACH;FMTTYPE=image/png:https://americangimuseum.org/wp-content/uploads/2025/03/LHW-2026.png
ORGANIZER;CN="Museum of the American GI":MAILTO:info@americangimuseum.org
END:VEVENT
END:VCALENDAR